Package: cycle Version: 1.61.0 Command: /home/biocbuild/bbs-3.21-bioc/R/bin/R CMD build --keep-empty-dirs --no-resave-data cycle StartedAt: 2025-02-03 17:00:30 -0500 (Mon, 03 Feb 2025) EndedAt: 2025-02-03 17:00:54 -0500 (Mon, 03 Feb 2025) EllapsedTime: 24.0 seconds RetCode: 0 Status: OK PackageFile: cycle_1.61.0.tar.gz PackageFileSize: 247.7 KiB