Package: cycle Version: 1.61.0 Command: rm -rf cycle.buildbin-libdir && mkdir cycle.buildbin-libdir && E:\biocbuild\bbs-3.21-bioc\R\bin\R.exe CMD INSTALL --build --library=cycle.buildbin-libdir cycle_1.61.0.tar.gz StartedAt: 2025-02-10 07:33:27 -0500 (Mon, 10 Feb 2025) EndedAt: 2025-02-10 07:33:35 -0500 (Mon, 10 Feb 2025) EllapsedTime: 8.1 seconds RetCode: 0 Status: OK PackageFile: cycle_1.61.0.zip PackageFileSize: 126.3 KiB