Package: cydar Version: 1.31.0 Command: /Library/Frameworks/R.framework/Resources/bin/R CMD check --install=check:cydar.install-out.txt --library=/Library/Frameworks/R.framework/Resources/library --no-vignettes --timings cydar_1.31.0.tar.gz StartedAt: 2025-02-09 18:46:48 -0500 (Sun, 09 Feb 2025) EndedAt: 2025-02-09 18:48:20 -0500 (Sun, 09 Feb 2025) EllapsedTime: 92.0 seconds RetCode: 0 Status: OK CheckDir: cydar.Rcheck Warnings: 0