Package: cydar Version: 1.31.0 Command: /Library/Frameworks/R.framework/Resources/bin/R CMD INSTALL cydar StartedAt: 2025-02-09 15:15:09 -0500 (Sun, 09 Feb 2025) EndedAt: 2025-02-09 15:15:25 -0500 (Sun, 09 Feb 2025) EllapsedTime: 16.7 seconds RetCode: 0 Status: OK