Package: cydar Version: 1.31.0 Command: /home/biocbuild/R/R/bin/R CMD build --keep-empty-dirs --no-resave-data cydar StartedAt: 2025-01-28 22:13:29 -0000 (Tue, 28 Jan 2025) EndedAt: 2025-01-28 22:15:11 -0000 (Tue, 28 Jan 2025) EllapsedTime: 102.0 seconds RetCode: 0 Status: OK PackageFile: cydar_1.31.0.tar.gz PackageFileSize: 408.3 KiB