Package: cydar Version: 1.31.0 Command: /Library/Frameworks/R.framework/Resources/bin/R CMD build --keep-empty-dirs --no-resave-data cydar StartedAt: 2025-02-09 16:26:29 -0500 (Sun, 09 Feb 2025) EndedAt: 2025-02-09 16:27:48 -0500 (Sun, 09 Feb 2025) EllapsedTime: 79.1 seconds RetCode: 0 Status: OK PackageFile: cydar_1.31.0.tar.gz PackageFileSize: 744.1 KiB