Package: cydar Version: 1.31.0 Command: /home/biocbuild/bbs-3.21-bioc/R/bin/R CMD check --install=check:cydar.install-out.txt --library=/home/biocbuild/bbs-3.21-bioc/R/site-library --timings cydar_1.31.0.tar.gz StartedAt: 2025-02-09 21:23:00 -0500 (Sun, 09 Feb 2025) EndedAt: 2025-02-09 21:27:15 -0500 (Sun, 09 Feb 2025) EllapsedTime: 255.4 seconds RetCode: 0 Status: OK CheckDir: cydar.Rcheck Warnings: 0