Package: cydar Version: 1.31.0 Command: /home/biocbuild/bbs-3.21-bioc/R/bin/R CMD INSTALL cydar StartedAt: 2025-02-09 15:30:57 -0500 (Sun, 09 Feb 2025) EndedAt: 2025-02-09 15:31:43 -0500 (Sun, 09 Feb 2025) EllapsedTime: 46.3 seconds RetCode: 0 Status: OK