Package: cytoKernel Version: 1.13.0 Command: /Library/Frameworks/R.framework/Resources/bin/R CMD check --install=check:cytoKernel.install-out.txt --library=/Library/Frameworks/R.framework/Resources/library --no-vignettes --timings cytoKernel_1.13.0.tar.gz StartedAt: 2025-02-09 20:04:52 -0500 (Sun, 09 Feb 2025) EndedAt: 2025-02-09 20:08:53 -0500 (Sun, 09 Feb 2025) EllapsedTime: 241.7 seconds RetCode: 0 Status: OK CheckDir: cytoKernel.Rcheck Warnings: 0