Package: cytoKernel Version: 1.13.0 Command: /Library/Frameworks/R.framework/Resources/bin/R CMD INSTALL cytoKernel StartedAt: 2025-02-04 15:20:25 -0500 (Tue, 04 Feb 2025) EndedAt: 2025-02-04 15:21:04 -0500 (Tue, 04 Feb 2025) EllapsedTime: 39.2 seconds RetCode: 0 Status: OK