Package: cytoKernel Version: 1.13.0 Command: /home/biocbuild/bbs-3.21-bioc/R/bin/R CMD build --keep-empty-dirs --no-resave-data cytoKernel StartedAt: 2025-02-09 16:52:13 -0500 (Sun, 09 Feb 2025) EndedAt: 2025-02-09 16:52:59 -0500 (Sun, 09 Feb 2025) EllapsedTime: 46.1 seconds RetCode: 0 Status: OK PackageFile: cytoKernel_1.13.0.tar.gz PackageFileSize: 710.3 KiB