Package: cytoKernel Version: 1.13.0 Command: /home/biocbuild/bbs-3.21-bioc/R/bin/R CMD INSTALL cytoKernel StartedAt: 2025-02-09 15:17:12 -0500 (Sun, 09 Feb 2025) EndedAt: 2025-02-09 15:17:42 -0500 (Sun, 09 Feb 2025) EllapsedTime: 30.2 seconds RetCode: 0 Status: OK