Package: cytoKernel Version: 1.13.0 Command: E:\biocbuild\bbs-3.21-bioc\R\bin\R.exe CMD INSTALL cytoKernel StartedAt: 2025-02-04 15:49:57 -0500 (Tue, 04 Feb 2025) EndedAt: 2025-02-04 15:50:45 -0500 (Tue, 04 Feb 2025) EllapsedTime: 48.2 seconds RetCode: 0 Status: OK