Package: cytoMEM Version: 1.11.0 Command: /Library/Frameworks/R.framework/Resources/bin/R CMD INSTALL cytoMEM StartedAt: 2025-02-12 15:03:46 -0500 (Wed, 12 Feb 2025) EndedAt: 2025-02-12 15:03:49 -0500 (Wed, 12 Feb 2025) EllapsedTime: 2.9 seconds RetCode: 0 Status: OK