Package: cytoMEM Version: 1.11.0 Command: rm -rf cytoMEM.buildbin-libdir && mkdir cytoMEM.buildbin-libdir && /Users/biocbuild/BBS/utils/build-universal.sh cytoMEM_1.11.0.tar.gz /Library/Frameworks/R.framework/Resources/bin/R cytoMEM.buildbin-libdir StartedAt: 2025-02-10 00:49:15 -0500 (Mon, 10 Feb 2025) EndedAt: 2025-02-10 00:49:27 -0500 (Mon, 10 Feb 2025) EllapsedTime: 11.6 seconds RetCode: 0 Status: OK PackageFile: cytoMEM_1.11.0.tgz PackageFileSize: 3.121 MiB