Package: cytoMEM Version: 1.11.0 Command: chmod a+r cytoMEM -R && E:\biocbuild\bbs-3.21-bioc\R\bin\R.exe CMD build --keep-empty-dirs --no-resave-data cytoMEM StartedAt: 2025-02-09 18:09:29 -0500 (Sun, 09 Feb 2025) EndedAt: 2025-02-09 18:10:24 -0500 (Sun, 09 Feb 2025) EllapsedTime: 55.3 seconds RetCode: 0 Status: OK PackageFile: cytoMEM_1.11.0.tar.gz PackageFileSize: 2.944 MiB