Package: cytomapper Version: 1.19.0 Command: rm -rf cytomapper.buildbin-libdir && mkdir cytomapper.buildbin-libdir && /Users/biocbuild/BBS/utils/build-universal.sh cytomapper_1.19.0.tar.gz /Library/Frameworks/R.framework/Resources/bin/R cytomapper.buildbin-libdir StartedAt: 2025-02-04 22:13:10 -0500 (Tue, 04 Feb 2025) EndedAt: 2025-02-04 22:13:33 -0500 (Tue, 04 Feb 2025) EllapsedTime: 23.5 seconds RetCode: 0 Status: OK PackageFile: cytomapper_1.19.0.tgz PackageFileSize: 5.457 MiB