Package: cytomapper Version: 1.19.0 Command: /Library/Frameworks/R.framework/Resources/bin/R CMD check --install=check:cytomapper.install-out.txt --library=/Library/Frameworks/R.framework/Resources/library --no-vignettes --timings cytomapper_1.19.0.tar.gz StartedAt: 2025-02-04 18:49:26 -0500 (Tue, 04 Feb 2025) EndedAt: 2025-02-04 18:54:38 -0500 (Tue, 04 Feb 2025) EllapsedTime: 312.7 seconds RetCode: 0 Status: OK CheckDir: cytomapper.Rcheck Warnings: 0