Package: cytomapper Version: 1.19.0 Command: /Library/Frameworks/R.framework/Resources/bin/R CMD INSTALL cytomapper StartedAt: 2025-02-04 15:19:32 -0500 (Tue, 04 Feb 2025) EndedAt: 2025-02-04 15:19:52 -0500 (Tue, 04 Feb 2025) EllapsedTime: 20.3 seconds RetCode: 0 Status: OK