Package: cytomapper Version: 1.19.0 Command: /home/biocbuild/R/R/bin/R CMD INSTALL cytomapper StartedAt: 2025-01-29 20:15:03 -0000 (Wed, 29 Jan 2025) EndedAt: 2025-01-29 20:15:04 -0000 (Wed, 29 Jan 2025) EllapsedTime: 1.0 seconds RetCode: 1 Status: ERROR