Package: cytomapper Version: 1.19.0 Command: /Library/Frameworks/R.framework/Resources/bin/R CMD build --keep-empty-dirs --no-resave-data cytomapper StartedAt: 2025-02-03 16:29:04 -0500 (Mon, 03 Feb 2025) EndedAt: 2025-02-03 16:30:51 -0500 (Mon, 03 Feb 2025) EllapsedTime: 106.5 seconds RetCode: 0 Status: OK PackageFile: cytomapper_1.19.0.tar.gz PackageFileSize: 21.48 MiB