Package: cytomapper Version: 1.19.0 Command: /Library/Frameworks/R.framework/Resources/bin/R CMD INSTALL cytomapper StartedAt: 2025-02-09 15:31:20 -0500 (Sun, 09 Feb 2025) EndedAt: 2025-02-09 15:32:36 -0500 (Sun, 09 Feb 2025) EllapsedTime: 76.1 seconds RetCode: 0 Status: OK