Package: cytomapper Version: 1.19.0 Command: /home/biocbuild/bbs-3.21-bioc/R/bin/R CMD build --keep-empty-dirs --no-resave-data cytomapper StartedAt: 2025-02-03 17:01:23 -0500 (Mon, 03 Feb 2025) EndedAt: 2025-02-03 17:02:57 -0500 (Mon, 03 Feb 2025) EllapsedTime: 94.1 seconds RetCode: 0 Status: OK PackageFile: cytomapper_1.19.0.tar.gz PackageFileSize: 20.96 MiB