Package: cytomapper Version: 1.19.0 Command: /home/biocbuild/bbs-3.21-bioc/R/bin/R CMD check --install=check:cytomapper.install-out.txt --library=/home/biocbuild/bbs-3.21-bioc/R/site-library --timings cytomapper_1.19.0.tar.gz StartedAt: 2025-02-09 21:25:29 -0500 (Sun, 09 Feb 2025) EndedAt: 2025-02-09 21:41:07 -0500 (Sun, 09 Feb 2025) EllapsedTime: 938.2 seconds RetCode: 0 Status: OK CheckDir: cytomapper.Rcheck Warnings: 0