Package: cytomapper Version: 1.19.0 Command: rm -rf cytomapper.buildbin-libdir && mkdir cytomapper.buildbin-libdir && E:\biocbuild\bbs-3.21-bioc\R\bin\R.exe CMD INSTALL --build --library=cytomapper.buildbin-libdir cytomapper_1.19.0.tar.gz StartedAt: 2025-02-04 07:47:27 -0500 (Tue, 04 Feb 2025) EndedAt: 2025-02-04 07:49:39 -0500 (Tue, 04 Feb 2025) EllapsedTime: 131.4 seconds RetCode: 0 Status: OK PackageFile: cytomapper_1.19.0.zip PackageFileSize: 4.868 MiB