Package: cytomapper Version: 1.19.0 Command: chmod a+r cytomapper -R && E:\biocbuild\bbs-3.21-bioc\R\bin\R.exe CMD build --keep-empty-dirs --no-resave-data cytomapper StartedAt: 2025-02-03 18:21:47 -0500 (Mon, 03 Feb 2025) EndedAt: 2025-02-03 18:24:46 -0500 (Mon, 03 Feb 2025) EllapsedTime: 179.3 seconds RetCode: 0 Status: OK PackageFile: cytomapper_1.19.0.tar.gz PackageFileSize: 20.89 MiB