Package: cytomapper Version: 1.19.0 Command: E:\biocbuild\bbs-3.21-bioc\R\bin\R.exe CMD check --no-multiarch --install=check:cytomapper.install-out.txt --library=E:\biocbuild\bbs-3.21-bioc\R\library --no-vignettes --timings cytomapper_1.19.0.tar.gz StartedAt: 2025-02-10 00:09:23 -0500 (Mon, 10 Feb 2025) EndedAt: 2025-02-10 00:34:21 -0500 (Mon, 10 Feb 2025) EllapsedTime: 1497.2 seconds RetCode: 0 Status: OK CheckDir: cytomapper.Rcheck Warnings: 0