Package: dStruct Version: 1.13.0 Command: /Library/Frameworks/R.framework/Resources/bin/R CMD build --keep-empty-dirs --no-resave-data dStruct StartedAt: 2025-02-09 16:11:33 -0500 (Sun, 09 Feb 2025) EndedAt: 2025-02-09 16:11:39 -0500 (Sun, 09 Feb 2025) EllapsedTime: 6.1 seconds RetCode: 0 Status: OK PackageFile: dStruct_1.13.0.tar.gz PackageFileSize: 557.4 KiB