Package: dStruct Version: 1.13.0 Command: /Library/Frameworks/R.framework/Resources/bin/R CMD INSTALL dStruct StartedAt: 2025-02-09 15:05:47 -0500 (Sun, 09 Feb 2025) EndedAt: 2025-02-09 15:05:49 -0500 (Sun, 09 Feb 2025) EllapsedTime: 1.8 seconds RetCode: 0 Status: OK