Package: dStruct Version: 1.13.0 Command: /Library/Frameworks/R.framework/Resources/bin/R CMD build --keep-empty-dirs --no-resave-data dStruct StartedAt: 2025-02-09 16:37:46 -0500 (Sun, 09 Feb 2025) EndedAt: 2025-02-09 16:38:06 -0500 (Sun, 09 Feb 2025) EllapsedTime: 20.6 seconds RetCode: 0 Status: OK PackageFile: dStruct_1.13.0.tar.gz PackageFileSize: 557.3 KiB