Package: dStruct Version: 1.13.0 Command: rm -rf dStruct.buildbin-libdir && mkdir dStruct.buildbin-libdir && E:\biocbuild\bbs-3.21-bioc\R\bin\R.exe CMD INSTALL --build --library=dStruct.buildbin-libdir dStruct_1.13.0.tar.gz StartedAt: 2025-02-05 07:51:44 -0500 (Wed, 05 Feb 2025) EndedAt: 2025-02-05 07:51:54 -0500 (Wed, 05 Feb 2025) EllapsedTime: 9.7 seconds RetCode: 0 Status: OK PackageFile: dStruct_1.13.0.zip PackageFileSize: 602.2 KiB