Package: dStruct Version: 1.13.0 Command: chmod a+r dStruct -R && E:\biocbuild\bbs-3.21-bioc\R\bin\R.exe CMD build --keep-empty-dirs --no-resave-data dStruct StartedAt: 2025-02-03 18:40:27 -0500 (Mon, 03 Feb 2025) EndedAt: 2025-02-03 18:40:51 -0500 (Mon, 03 Feb 2025) EllapsedTime: 24.0 seconds RetCode: 0 Status: OK PackageFile: dStruct_1.13.0.tar.gz PackageFileSize: 557.5 KiB