Package: dStruct Version: 1.13.0 Command: E:\biocbuild\bbs-3.21-bioc\R\bin\R.exe CMD check --no-multiarch --install=check:dStruct.install-out.txt --library=E:\biocbuild\bbs-3.21-bioc\R\library --no-vignettes --timings dStruct_1.13.0.tar.gz StartedAt: 2025-02-05 01:09:40 -0500 (Wed, 05 Feb 2025) EndedAt: 2025-02-05 01:11:20 -0500 (Wed, 05 Feb 2025) EllapsedTime: 100.0 seconds RetCode: 0 Status: OK CheckDir: dStruct.Rcheck Warnings: 0