Package: daMA Version: 1.79.0 Maintainer: Jobst Landgrebe MaintainerEmail: jlandgr1 at gwdg.de git_url: https://git.bioconductor.org/packages/daMA git_branch: devel git_last_commit: d03098c git_last_commit_date: 2024-10-29 09:21:52 -0500 (Tue, 29 Oct 2024)