Package: daMA Version: 1.79.0 Command: /Library/Frameworks/R.framework/Resources/bin/R CMD build --keep-empty-dirs --no-resave-data daMA StartedAt: 2025-02-09 16:03:23 -0500 (Sun, 09 Feb 2025) EndedAt: 2025-02-09 16:03:24 -0500 (Sun, 09 Feb 2025) EllapsedTime: 1.0 seconds RetCode: 0 Status: OK PackageFile: daMA_1.79.0.tar.gz PackageFileSize: 4.026 MiB