Package: daMA Version: 1.79.0 Command: /Library/Frameworks/R.framework/Resources/bin/R CMD check --install=check:daMA.install-out.txt --library=/Library/Frameworks/R.framework/Resources/library --no-vignettes --timings daMA_1.79.0.tar.gz StartedAt: 2025-02-03 19:26:21 -0500 (Mon, 03 Feb 2025) EndedAt: 2025-02-03 19:26:34 -0500 (Mon, 03 Feb 2025) EllapsedTime: 13.2 seconds RetCode: 0 Status: OK CheckDir: daMA.Rcheck Warnings: 0