Package: daMA Version: 1.79.0 Command: /home/biocbuild/R/R/bin/R CMD INSTALL daMA StartedAt: 2025-01-29 19:30:48 -0000 (Wed, 29 Jan 2025) EndedAt: 2025-01-29 19:31:14 -0000 (Wed, 29 Jan 2025) EllapsedTime: 26.2 seconds RetCode: 0 Status: OK