Package: daMA Version: 1.79.0 Command: rm -rf daMA.buildbin-libdir && mkdir daMA.buildbin-libdir && /Users/biocbuild/BBS/utils/build-universal.sh daMA_1.79.0.tar.gz /Library/Frameworks/R.framework/Resources/bin/R daMA.buildbin-libdir StartedAt: 2025-02-10 00:49:26 -0500 (Mon, 10 Feb 2025) EndedAt: 2025-02-10 00:49:31 -0500 (Mon, 10 Feb 2025) EllapsedTime: 5.8 seconds RetCode: 0 Status: OK PackageFile: daMA_1.79.0.tgz PackageFileSize: 4.059 MiB