Package: daMA Version: 1.79.0 Command: /Library/Frameworks/R.framework/Resources/bin/R CMD check --install=check:daMA.install-out.txt --library=/Library/Frameworks/R.framework/Resources/library --no-vignettes --timings daMA_1.79.0.tar.gz StartedAt: 2025-02-09 20:07:05 -0500 (Sun, 09 Feb 2025) EndedAt: 2025-02-09 20:07:39 -0500 (Sun, 09 Feb 2025) EllapsedTime: 34.3 seconds RetCode: 0 Status: OK CheckDir: daMA.Rcheck Warnings: 0