Package: daMA Version: 1.79.0 Command: /Library/Frameworks/R.framework/Resources/bin/R CMD INSTALL daMA StartedAt: 2025-02-03 15:09:21 -0500 (Mon, 03 Feb 2025) EndedAt: 2025-02-03 15:10:08 -0500 (Mon, 03 Feb 2025) EllapsedTime: 47.4 seconds RetCode: 0 Status: OK