Package: daMA Version: 1.79.0 Command: /home/biocbuild/bbs-3.21-bioc/R/bin/R CMD check --install=check:daMA.install-out.txt --library=/home/biocbuild/bbs-3.21-bioc/R/site-library --timings daMA_1.79.0.tar.gz StartedAt: 2025-02-03 21:36:05 -0500 (Mon, 03 Feb 2025) EndedAt: 2025-02-03 21:36:25 -0500 (Mon, 03 Feb 2025) EllapsedTime: 20.0 seconds RetCode: 0 Status: OK CheckDir: daMA.Rcheck Warnings: 0