Package: daMA Version: 1.79.0 Command: /home/biocbuild/bbs-3.21-bioc/R/bin/R CMD INSTALL daMA StartedAt: 2025-02-03 15:13:12 -0500 (Mon, 03 Feb 2025) EndedAt: 2025-02-03 15:13:33 -0500 (Mon, 03 Feb 2025) EllapsedTime: 21.6 seconds RetCode: 0 Status: OK