Package: daMA Version: 1.79.0 Command: rm -rf daMA.buildbin-libdir && mkdir daMA.buildbin-libdir && E:\biocbuild\bbs-3.21-bioc\R\bin\R.exe CMD INSTALL --build --library=daMA.buildbin-libdir daMA_1.79.0.tar.gz StartedAt: 2025-02-05 07:45:34 -0500 (Wed, 05 Feb 2025) EndedAt: 2025-02-05 07:45:45 -0500 (Wed, 05 Feb 2025) EllapsedTime: 11.1 seconds RetCode: 0 Status: OK PackageFile: daMA_1.79.0.zip PackageFileSize: 4.061 MiB