Package: daMA Version: 1.79.0 Command: chmod a+r daMA -R && E:\biocbuild\bbs-3.21-bioc\R\bin\R.exe CMD build --keep-empty-dirs --no-resave-data daMA StartedAt: 2025-02-04 18:09:10 -0500 (Tue, 04 Feb 2025) EndedAt: 2025-02-04 18:09:13 -0500 (Tue, 04 Feb 2025) EllapsedTime: 2.9 seconds RetCode: 0 Status: OK PackageFile: daMA_1.79.0.tar.gz PackageFileSize: 4.026 MiB