Package: daMA Version: 1.79.0 Command: E:\biocbuild\bbs-3.21-bioc\R\bin\R.exe CMD check --no-multiarch --install=check:daMA.install-out.txt --library=E:\biocbuild\bbs-3.21-bioc\R\library --no-vignettes --timings daMA_1.79.0.tar.gz StartedAt: 2025-02-05 00:38:47 -0500 (Wed, 05 Feb 2025) EndedAt: 2025-02-05 00:39:21 -0500 (Wed, 05 Feb 2025) EllapsedTime: 34.0 seconds RetCode: 0 Status: OK CheckDir: daMA.Rcheck Warnings: 0