Package: daMA Version: 1.79.0 Command: E:\biocbuild\bbs-3.21-bioc\R\bin\R.exe CMD INSTALL daMA StartedAt: 2025-02-04 15:18:51 -0500 (Tue, 04 Feb 2025) EndedAt: 2025-02-04 15:19:13 -0500 (Tue, 04 Feb 2025) EllapsedTime: 21.6 seconds RetCode: 0 Status: OK