Package: dada2 Version: 1.35.0 Command: /Library/Frameworks/R.framework/Resources/bin/R CMD check --install=check:dada2.install-out.txt --library=/Library/Frameworks/R.framework/Resources/library --no-vignettes --timings dada2_1.35.0.tar.gz StartedAt: 2025-02-09 18:49:21 -0500 (Sun, 09 Feb 2025) EndedAt: 2025-02-09 18:51:00 -0500 (Sun, 09 Feb 2025) EllapsedTime: 99.2 seconds RetCode: 0 Status: WARNINGS CheckDir: dada2.Rcheck Warnings: 1