Package: dada2 Version: 1.35.0 Command: /home/biocbuild/R/R/bin/R CMD INSTALL dada2 StartedAt: 2025-01-29 19:59:06 -0000 (Wed, 29 Jan 2025) EndedAt: 2025-01-29 20:01:17 -0000 (Wed, 29 Jan 2025) EllapsedTime: 130.9 seconds RetCode: 0 Status: OK