Package: dada2 Version: 1.35.0 Command: /home/biocbuild/bbs-3.21-bioc/R/bin/R CMD INSTALL dada2 StartedAt: 2025-02-09 15:50:37 -0500 (Sun, 09 Feb 2025) EndedAt: 2025-02-09 15:52:01 -0500 (Sun, 09 Feb 2025) EllapsedTime: 84.5 seconds RetCode: 0 Status: OK