Package: dada2 Version: 1.35.0 Command: chmod a+r dada2 -R && E:\biocbuild\bbs-3.21-bioc\R\bin\R.exe CMD build --keep-empty-dirs --no-resave-data dada2 StartedAt: 2025-02-09 18:10:11 -0500 (Sun, 09 Feb 2025) EndedAt: 2025-02-09 18:13:09 -0500 (Sun, 09 Feb 2025) EllapsedTime: 177.7 seconds RetCode: 0 Status: OK PackageFile: dada2_1.35.0.tar.gz PackageFileSize: 2.505 MiB